Workbook
Name MAC: '2'!$B$25
Name а_город: '2'!$C$16
Name а_дом: '2'!$C$18
Name а_индекс: '2'!$C$15
Name а_квартира: '2'!$C$19
Name а_полный: '2'!$B$20
Name а_улица: '2'!$C$17
Name абон_плата: '2'!$B$5
Name адрес: '2'!$A$15
Name Адресс.МЖ: '2'!$A$16
Name Город: '2'!$B$16
Name город_договора: '2'!$B$3
Name дата_договора: '2'!$B$6
Name дата_рождения: '2'!$B$8
Name дом: '2'!$B$18
Name Индекс: '2'!$B$15
Name квартира: '2'!$B$19
Name место_рождения: '2'!$B$9
Name номер_договора: '2'!$B$2
Name оборудование: '2'!$B$24
Name п_выдан: '2'!$C$13
Name п_дата: '2'!$C$12
Name п_номер: '2'!$C$11
Name п_серия: '2'!$C$10
Name пароль: '2'!$B$22
Name почта: '2'!$B$23
Name тариф: '2'!$B$4
Name телефон: '2'!$B$21
Name тех_время: '2'!$C$27
Name тех_телефон: '2'!$C$26
Name улица: '2'!$B$17
Name ФИО: '2'!$B$7

Sheet 2
A2: № Договора | B2: 3210
A3: Город | B3: г. Новосибирск
A4: Тарифный план | B4: 50мб/с
A5: Абон. плата | B5: 800 (восемьсот) рублей
A6: Дата закл.Договора | B6: 43649
A7: Ф.И.О. (абонента) | B7: Сычева Елена Дмитриевна
A8: Дата рождения | B8: 21994
A9: Место рождения
A10: Паспорт | B10: Серия | C10: 508888
B11: Номер | C11: 2222
B12: Дата выдачи | C12: 41477
B13: Выдан | C13: Министерство Внутренних Дел Казахстан
A15: Адрес: | B15: Индекс:
B16: г. | C16: г. Новосибирск село Ленинское
B17: ул. | C17: 50 лет Октября
B18: дом. | C18: 27
B19: кв. | C19: 4
A20: Полный адрес | B20: =CONCATENATE(а_индекс, " ",а_город, ", ",а_улица, ", ",а_дом, " ",а_квартира) -> г. Новосибирск село Ленинское, 50 лет Октября, 27 4
A21: Конт.тел. | B21: 8-953-780-60-
A22: Пароль к ЛК. | B22: mobg
A23: E-mail:
A24: Оборудование | B24: NTE - 2
A25: МАС оборудования
A26: Телефон тех поддерки: | C26: 8 (913) 957-1555
A27: Время работы тех поддержки: | C27: (в будние дни с 9-00 до 21-00)

Sheet Договор
A2: ДОГОВОР НА ОКАЗАНИЕ УСЛУГ № | J2: =номер_договора -> 3210
A4: ='2'!B3 -> г. Новосибирск | L4: =дата_договора -> 43649
A6: ="Общество с ограниченной ответственностью «ВОСТОК-ТЕЛЕКОМ», именуемое в дальнейшем «Исполнитель», в лице Буйновского Игоря Борисовича, действующего на основании Устава, с одной стороны, и "&ФИО&" , именуемый в дальнейшем «Абонент», с другой стороны, вместе именуемые «Стороны», заключили настоящий договор о нижеследующем:" -> Общество с ограниченной ответственностью «ВОСТОК-ТЕЛЕКОМ», именуемое в дальнейшем «Исполнитель», в лице Буйновского Игоря Борисовича, действующего на основании Устава, с одной стороны, и Сычева Елена Дмитриевна , именуемый в дальнейшем «Абонент», с другой стороны, вместе именуемые «Стороны», заключили настоящий договор о нижеследующем:
A8: 1.ПРЕДМЕТ ДОГОВОРА
A10: 1.1. Исполнитель обязуется по заказу Абонента оказывать следующие виды услуг: передачи данных, информационные и консультационные услуги, а Абонент обязуется принимать и оплачивать услуги Исполнителя в порядке и в сроки, установленные настоящим договором.
A11: 1.2. Настоящий договор наряду с «Условиями оказания услуг» определяют порядок взаимоотношений сторон, при оказании услуг, оговоренных в п.1.1. настоящего договора. «Условия оказания услуг» являются неотъемлемой частью настоящего договора.
A12: 2. ПРАВА ИСПОЛНИТЕЛЯ
A13: 2.1. Исполнитель имеет право вносить изменения в Условия оказания услуг. В случае внесения изменений Исполнитель обязан уведомить Абонента не позднее чем за 10 (десять) календарных дней до даты введения изменений, путем размещения информации в личном кабинете Абонента на сервере Исполнителя по адресу: Vt54.ru. Изменения считаются принятыми Абонентом, если Абонент в течение 5 (пяти) календарных дней с момента размещения в личном кабинете Абонента письменно не заявил о своем несогласии с изменениями. В случае получения от Абонента уведомления о несогласии, действие настоящего договора на оказание услуг приостанавливается.
A14: 2.2. Исполнитель имеет право оказывать услуги, указанные в п. 1.1. настоящего договора, что подтверждается Лицензией на предоставление услуг передачи данных, в случае отзыва лицензии Исполнитель оставляет за собой право без переоформления настоящего договора осуществлять информационные и консультационные услуги, и услуги по передачи данных в качестве агента другого провайдера связи, имеющего соответствующие лицензии.
A15: 2.3. При использовании новых услуг, действие которых не описано в лицензии , Исполнитель обязуется получить данные лицензии, либо заключить агентский договор с организацией, имеющей данные лицензии, при этом настоящий договор переподписания и переоформления не требует, а исполнитель продолжает работать в качестве агента.
A17: 3. ОПЛАТА УСЛУГ
A19: 3.1. Оплата за услуги Исполнителя может осуществляеться наличным или безналичным способом
A20: 3.2. На момент заключения Договора подключение Абонента к услугам Исполнителя производится по тарифу 2000 (две тысячи) рублей.
A21: ="3.3. Ежемесячная Абонентская плата составляет "&абон_плата&" без учета НДС в месяц. Услуги доступа согласно п.1.1. предоставляются при условии, что баланс счета Абонента положительный." -> 3.3. Ежемесячная Абонентская плата составляет 800 (восемьсот) рублей без учета НДС в месяц. Услуги доступа согласно п.1.1. предоставляются при условии, что баланс счета Абонента положительный.
A22: 3.4. Абонентская плата вносится по предоплатной схеме за месяц вперед на Лицевой счет Абонента, выделенный по соответствующему Заказу.
A23: 3.5. Исполнитель по факту оказания услуги по подключению к сети передачи данных предоставляет Абоненту Акт сдачи-приемки услуг. Абонент в течение 2 (двух) рабочих дней с момента получения от Исполнителя Акта сдачи-приемки услуг, обязан принять оказанные услуги и подписать Акт. В случае если по истечению 5 (пяти) рабочих дней с момента получения Акта Абонентом, от Абонента не поступил подписанный Акт, или мотивированный отказ в подписании Акта, услуги Исполнителя считаются принятыми и подлежащими оплате в полной мере.
A24: 3.6. Лицевой счет Абонента ведется в АСР в электронном виде. По требованию Абонента счет на оплату может быть выставлен в Офисах Исполнителя, а также в Личном кабинете абонента. Неполучение Абонентом счета на оплату Услуг не является основанием для Абонента не вносить плату.
A26: 4. ИНФОРМАЦИЯ ДЛЯ АБОНЕНТА
A28: 4.1. Тарифный план: | C28: =тариф -> 50мб/с
A29: 4.2. Личный кабинет: | C29: lk.vt54.ru
B30: Сайт: | C30: vt54.ru
B31: Логин: | C31: ='2'!B2 -> 3210 | E31: Логин: | F31: ='2'!B2 -> 3210
B32: Пароль: | C32: =пароль -> mobg | E32: Пароль: | F32: =пароль -> mobg
A33: 4.3. Контактные данные: | C33: =CONCATENATE(тех_телефон, " ",тех_время) -> 8 (913) 957-1555 (в будние дни с 9-00 до 21-00) | F33: 8-913-957-1555 (c 8-17 в будние дни)
A37: 5. ЗАКЛЮЧИТЕЛЬНЫЕ ПОЛОЖЕНИЯ
A39: 5.1. Настоящий договор составлен в двух экземплярах, имеющих одинаковую юридическую силу, по одному экземпляру для каждой из Сторон.
A40: 5.2. Подписывая настоящий договор, Абонент выражает Согласие на SMS - рассылку по телефонам, указанным в настоящем договоре в информационных целях
A41: 5.3. Подписывая настоящий договор, Абонент дает согласие на обработку следующих персональных данных: баланс лицевого счета Абонента по настоящему договору, с целью предоставления данной информации Абоненту по телефону оператором информационно-справочного обслуживания ООО «Восток-Телеком».
A42: 5.4. Оператор гарантирует Абоненту, что обработка его персональных данных будет осуществляться путем: сбора, систематизации, накопления, уточнения, использования и последующей смешанной обработкой персональных данных с передачей информации по внутренней сети оператора (информация доступна определенной категории работников оператора). В случае неправомерного использования предоставленных данных соглашение отзывается письменным заявлением субъекта персональных данных. Данное согласие действует с момента подписания настоящего договора, до момента его расторжения.
A43: 5.5. Настоящий договор заключается сроком на 1(один) год, вступает в силу с даты подписания. Договор пролангируется в том случае, если ни одна из сторон, не менее чем за 30 календарных дней, до окончания срока действия настоящего Договора, не заявит в письменной форме о намерении прекратить действие Договора.
A45: 6. РЕКВИЗИТЫ И ПОДПИСИ СТОРОН
A47: СВЕДЕНИЯ об ИСПОЛНИТЕЛЕ: | I47: СВЕДЕНИЯ об АБОНЕНТЕ:
A49: Ф.И.О. | B49: Буйновский Игорь Борисович | I49: Ф.И.О | J49: =CONCATENATE('2'!B7) -> Сычева Елена Дмитриевна
A50: Юридический адрес: | E50: Фактический адресс: | I50: Дата рождения: | J50: 21994
A51: Индекс: | B51: 6300049 | E51: 630047 | I51: Место рождения: | J51: =CONCATENATE('2'!B9)
A52: Город: | B52: Новосибирск | E52: Новосибирск | I52: Паспортные данные:
A53: Улица: | B53: Линейная,30 | E53: Кисловодская,4 | I53: Серия: | J53: =п_серия -> 508888 | K53: Номер:
A54: Офис: | B54: 309б | I54: Дата выдачи: | J54: ='2'!C12 -> 41477
A55: Банковские реквизиты: | I55: Кем выдан: | J55: ='2'!C13 -> Министерство Внутренних Дел Казахстан
A56: Банк: | B56: НФ АКБ «ЛАНТА-БАНК» (ЗАО) г.Новосибирск
...

Sheet Акт.перед.оборудования
A2: АКТ | F2: АКТ
A3: приема-передачи оборудования | F3: выполненных работ
E4: =дата_договора -> 43649 | K4: =дата_договора -> 43649
A6: ="ООО «ВОСТОК-ТЕЛЕКОМ», именуемый в дальнейшем «Исполнитель», в лице Буйновского Игоря Борисовича, действующего на основании Устава, с одной стороны, и "&ФИО&" , именуемый в дальнейшем «Абонент», с другой стороны, составили настоящий Акт о том, что в соответствии с Договором на оказание услуг № "&номер_договора&" от "&CONCATENATE(DAY(дата_договора), ".", MONTH(дата_договора), ".", YEAR(дата_договора))&"г., Исполнитель передал,а Абонент принял следующее Оборудование " -> ООО «ВОСТОК-ТЕЛЕКОМ», именуемый в дальнейшем «Исполнитель», в лице Буйновского Игоря Борисовича, действующего на основании Устава, с одной стороны, и Сычева Елена Дмитриевна , именуемый в дальнейшем «Абонент», с другой стороны, составили настоящий Акт о том, что в соответствии с Договором на оказание услуг № 3210 от 3.7.2019г., Исполнитель передал,а Абонент принял следующее Оборудование | F6: ="ООО «ВОСТОК-ТЕЛЕКОМ», именуемый в дальнейшем «Исполнитель», в лице Буйновского Игоря Борисовича, действующего на основании Устава, с одной стороны, и "&'2'!B7&" , именуемый в дальнейшем «Абонент», с другой стороны, составили настоящий Акт о том, что в соответствии с Договором на оказание услуг № "&'2'!B2&" от "&CONCATENATE(DAY(дата_договора), ".", MONTH(дата_договора), ".", YEAR(дата_договора))&"г., Исполнитель выполнил следующие работы: " -> ООО «ВОСТОК-ТЕЛЕКОМ», именуемый в дальнейшем «Исполнитель», в лице Буйновского Игоря Борисовича, действующего на основании Устава, с одной стороны, и Сычева Елена Дмитриевна , именуемый в дальнейшем «Абонент», с другой стороны, составили настоящий Акт о том, что в соответствии с Договором на оказание услуг № 3210 от 3.7.2019г., Исполнитель выполнил следующие работы:
A9: 1.1. Исполнитель обязуется по заказу Абонента оказывать следующие виды услуг: передачи данных, информационные и консультационные услуги, а Абонент обязуется принимать и оплачивать услуги Исполнителя в порядке и в сроки, установленные настоящим договором. | B9: Наименование и модель оборудования | C9: МАС | D9: Ст-ть (руб) | E9: Адрес установки | F9: № | G9: Наименование работ | H9: Кол-во | I9: Ед-ца изм. | J9: Адрес предоставления услуг
A11: 1 | B11: Абонентский терминал | C11: ='2'!B25 -> 0 | D11: 3500 | E11: =а_полный -> г. Новосибирск село Ленинское, 50 лет Октября, 27 4 | F11: 1 | G11: Протяжка кабеля ОК/Д2-Т-А1-0,7 | H11: 100 | I11: м.п. | J11: Адресс: | K11: =а_полный -> г. Новосибирск село Ленинское, 50 лет Октября, 27 4
B12: =CONCATENATE('2'!B24) -> NTE - 2
A13: 2 | F13: 2 | G13: Установка абонентского терминала | H13: 1 | I13: шт.
F14: 3 | G14: Настройка оборудования | H14: 1 | I14: шт.
A15: 3 | F15: 4 | G15: Патч-корд медный с коннекторами RJ-45 для компьютера | H15: 2 | I15: м.п
F19: Подписанием настоящего Акта стороны подтверджают, что услуги по подключению к сети передачи данных выполнены полностью. Стороны претензий друг к другу не имеют, место место прокладки абонентской линии и установки оборудования с Абонентом согласовано.
B22: Исполнитель | E22: Абонент | G22: Исполнитель | J22: Абонент
B24: _______________ | E24: _______________ | G24: _______________ | J24: _______________
B25: (подпись) | E25: (подпись) | G25: (подпись) | J25: (подпись)
B26: Буйновский Игорь Борисович | E26: =ФИО -> Сычева Елена Дмитриевна | G26: Буйновский Игорь Борисович | J26: =ФИО -> Сычева Елена Дмитриевна
B30: м.п. | G30: м.п.

Sheet Приход.Подкл
A1: Утверждена постановлением Госкомстата России от 18.08.98 г. № 88 | AI1: ООО "Восток-Телеком"
Y3: Код
AJ4: организация
A5: ООО "Восток-Телеком"
S6: Форма по ОКУД | Y6: 0310001
AJ8: КВИТАНЦИЯ
T9: по ОКПО
AJ11: =CONCATENATE("к приходному кассовому ордеру №"," ",номер_договора) -> к приходному кассовому ордеру № 3210
A12: организация
AJ13: =CONCATENATE("от"," ",дата_договора) -> от 43649
AJ14: от | AK14: =дата_договора -> 43649
AJ17: Принято от:
A19: структурное подразделение
A20: 3.1. Оплата за услуги Исполнителя может осуществляеться наличным или безналичным способом
A21: 3.2. На момент заключения Договора стоимость услуг по подключению Абонента к услугам Исполнителя п.1.1. составляет 6000 (Шесть тысяч) рублей без учета НДС. | AJ21: =ФИО -> Сычева Елена Дмитриевна
U22: Номер документа | Z22: Дата составления
A24: 3.5. Исполнитель по факту оказания услуги по подключению к сети передачи данных предоставляет Абоненту Акт сдачи-приемки услуг. Абонент в течение 2 (двух) рабочих дней с момента получения от Исполнителя Акта сдачи-приемки услуг, обязан принять оказанные услуги и подписать Акт. В случае если по истечению 5 (пяти) рабочих дней с момента получения Акта Абонентом, от Абонента не поступил подписанный Акт, или мотивированный отказ в подписании Акта, услуги Исполнителя считаются принятыми и подлежащими оплате в полной мере.
U25: =номер_договора -> 3210 | Z25: =дата_договора -> 43649
AJ27: Основание:
A31: Дебет | D31: Кредит | U31: Сумма, руб, коп | Z31: Код целевого назна- чения | AJ31: =Договор!A2 -> ДОГОВОР НА ОКАЗАНИЕ УСЛУГ № | AU31: =номер_договора -> 3210
F33: код струк- турного под- разделения | L33: корреспонди- рующий счет, субсчет | O33: код анали- тического учета
AE34: линия отреза
AJ36: Сумма:
AK37: 2000 | AR37: руб. | AT37: 00 | AU37: коп.
U38: 2000 руб
AJ39: Две тысячи
A43: Принято от: | F43: =CONCATENATE('2'!B7) -> Сычева Елена Дмитриевна
AR48: руб. | AU48: коп.
AJ49: В том числе:
A51: Основание: | E51: =Договор!A2 -> ДОГОВОР НА ОКАЗАНИЕ УСЛУГ № | T51: ='2'!B2 -> 3210 | V51: от | W51: =дата_договора -> 43649
A58: Сумма: | C58: 2000 (две тысячи) руб. коп. | AJ58: " " ___________ г.
AJ61: М.П.(штампа)
A62: В том числе:
AJ65: Главный бухгалтер
A66: Приложение:
AQ67: подпись
AJ69: Буйновский И.Б.
AJ70: расшифровка подписи
A72: Главный бухгалтер | Q72: Буйновский И.Б.
AJ73: Кассир
...

Sheet Приход.Аб.Плата
A1: Утверждена постановлением Госкомстата России от 18.08.98 г. № 88 | AI1: ООО "Восток-Телеком"
Y3: Код
AJ4: организация
A5: ООО "Восток-Телеком"
S6: Форма по ОКУД | Y6: 0310001
AJ8: КВИТАНЦИЯ
T9: по ОКПО
AJ11: =CONCATENATE("к приходному кассовому ордеру №"," ",номер_договора) -> к приходному кассовому ордеру № 3210
A12: организация
AJ13: =CONCATENATE("от"," ",дата_договора) -> от 43649
AJ14: от | AK14: =дата_договора -> 43649
AJ17: Принято от:
A19: структурное подразделение
A20: 3.1. Оплата за услуги Исполнителя может осуществляеться наличным или безналичным способом
A21: 3.2. На момент заключения Договора стоимость услуг по подключению Абонента к услугам Исполнителя п.1.1. составляет 6000 (Шесть тысяч) рублей без учета НДС. | AJ21: =ФИО -> Сычева Елена Дмитриевна
U22: Номер документа | Z22: Дата составления
A24: 3.5. Исполнитель по факту оказания услуги по подключению к сети передачи данных предоставляет Абоненту Акт сдачи-приемки услуг. Абонент в течение 2 (двух) рабочих дней с момента получения от Исполнителя Акта сдачи-приемки услуг, обязан принять оказанные услуги и подписать Акт. В случае если по истечению 5 (пяти) рабочих дней с момента получения Акта Абонентом, от Абонента не поступил подписанный Акт, или мотивированный отказ в подписании Акта, услуги Исполнителя считаются принятыми и подлежащими оплате в полной мере.
U25: =номер_договора -> 3210 | Z25: =дата_договора -> 43649
AJ27: Основание:
A31: Дебет | D31: Кредит | U31: Сумма, руб, коп | Z31: Код целевого назна- чения | AJ31: =Договор!A2 -> ДОГОВОР НА ОКАЗАНИЕ УСЛУГ № | AU31: =номер_договора -> 3210
F33: код струк- турного под- разделения | L33: корреспонди- рующий счет, субсчет | O33: код анали- тического учета
AE34: линия отреза
AJ36: Сумма:
AK37: 800 | AR37: руб. | AT37: 00 | AU37: коп.
U38: 800 руб
AJ39: Восемьсот
A43: Принято от: | F43: =CONCATENATE('2'!B7) -> Сычева Елена Дмитриевна
AR48: руб. | AU48: коп.
AJ49: В том числе:
A51: Основание: | E51: =Договор!A2 -> ДОГОВОР НА ОКАЗАНИЕ УСЛУГ № | T51: ='2'!B2 -> 3210 | V51: от | W51: =дата_договора -> 43649
A58: Сумма: | C58: 800 (восемьсот) руб. коп. | AJ58: " " ___________ г.
AJ61: М.П.(штампа)
A62: В том числе:
AJ65: Главный бухгалтер
A66: Приложение:
AQ67: подпись
AJ69: Буйновский И.Б.
AJ70: расшифровка подписи
A72: Главный бухгалтер | Q72: Буйновский И.Б.
AJ73: Кассир
...

Sheet Приход.Роутер
A1: Утверждена постановлением Госкомстата России от 18.08.98 г. № 88 | AI1: ООО "Восток-Телеком"
Y3: Код
AJ4: организация
A5: ООО "Восток-Телеком"
S6: Форма по ОКУД | Y6: 0310001
AJ8: КВИТАНЦИЯ
T9: по ОКПО
AJ11: =CONCATENATE("к приходному кассовому ордеру №","3201",) -> к приходному кассовому ордеру №3201
A12: организация
AJ13: =CONCATENATE("от"," ",дата_договора) -> от 43649
AJ14: от | AK14: =дата_договора -> 43649
AJ17: Принято от:
AN18: Анохин Юрий Владимирович
A19: структурное подразделение
A20: 3.1. Оплата за услуги Исполнителя может осуществляеться наличным или безналичным способом
A21: 3.2. На момент заключения Договора стоимость услуг по подключению Абонента к услугам Исполнителя п.1.1. составляет 6000 (Шесть тысяч) рублей без учета НДС.
U22: Номер документа | Z22: Дата составления
A24: 3.5. Исполнитель по факту оказания услуги по подключению к сети передачи данных предоставляет Абоненту Акт сдачи-приемки услуг. Абонент в течение 2 (двух) рабочих дней с момента получения от Исполнителя Акта сдачи-приемки услуг, обязан принять оказанные услуги и подписать Акт. В случае если по истечению 5 (пяти) рабочих дней с момента получения Акта Абонентом, от Абонента не поступил подписанный Акт, или мотивированный отказ в подписании Акта, услуги Исполнителя считаются принятыми и подлежащими оплате в полной мере.
U25: =номер_договора -> 3210 | Z25: =дата_договора -> 43649
AJ27: Основание:
A31: Дебет | D31: Кредит | U31: Сумма, руб, коп | Z31: Код целевого назна- чения | AJ31: =Договор!A2 -> ДОГОВОР НА ОКАЗАНИЕ УСЛУГ № | AU31: 3129
AJ32: TP-Link TL-WR840N(RU)
F33: код струк- турного под- разделения | L33: корреспонди- рующий счет, субсчет | O33: код анали- тического учета
AE34: линия отреза
AJ35: S/n: 218А488005683
AJ36: Сумма:
AK37: 1850 | AR37: руб. | AT37: 00 | AU37: коп.
U38: 1850 руб
AJ42: Одна тысяча восемьсот пятьдесят рублей
A43: Принято от: | F43: Анохин Юрий Владимирович
AR48: руб. | AU48: коп.
AJ49: В том числе:
A51: Основание: | E51: =Договор!A2 -> ДОГОВОР НА ОКАЗАНИЕ УСЛУГ № | T51: 3201 | V51: от | W51: =дата_договора -> 43649
F55: Wi-Fi роутер TP-Link TL-WR840N(RU). S/n: 218А488005683
A58: Сумма: | C58: 1850 (Одна тысяча восемьсот пятьдесят) руб. коп. | AJ58: " " ___________ г.
AJ61: М.П.(штампа)
A62: В том числе:
AJ65: Главный бухгалтер
A66: Приложение:
AQ67: подпись
...

Sheet Акт.перед.ТВ-приставки
A2: АКТ
A3: приема-передачи оборудования
A4: =город_договора -> г. Новосибирск | E4: =дата_договора -> 43649
A6: ="ООО «ВОСТОК-ТЕЛЕКОМ», именуемый в дальнейшем «Исполнитель», в лице Буйновского Игоря Борисовича, действующего на основании Устава, с одной стороны, и "&ФИО&" , именуемый в дальнейшем «Абонент», с другой стороны, составили настоящий Акт о том, что в соответствии с Договором на оказание услуг № "&номер_договора&" от "&CONCATENATE(DAY(дата_договора), ".", MONTH(дата_договора), ".", YEAR(дата_договора))&"г., Исполнитель передал,а Абонент принял следующее Оборудование " -> ООО «ВОСТОК-ТЕЛЕКОМ», именуемый в дальнейшем «Исполнитель», в лице Буйновского Игоря Борисовича, действующего на основании Устава, с одной стороны, и Сычева Елена Дмитриевна , именуемый в дальнейшем «Абонент», с другой стороны, составили настоящий Акт о том, что в соответствии с Договором на оказание услуг № 3210 от 3.7.2019г., Исполнитель передал,а Абонент принял следующее Оборудование
A9: 1.1. Исполнитель обязуется по заказу Абонента оказывать следующие виды услуг: передачи данных, информационные и консультационные услуги, а Абонент обязуется принимать и оплачивать услуги Исполнителя в порядке и в сроки, установленные настоящим договором. | B9: Наименование и модель оборудования | C9: МАС | D9: Ст-ть (руб) | E9: Адресс установки
A11: 1 | B11: ТВ-приставка | C11: ='2'!B25 -> 0 | D11: 4500 | E11: =а_полный -> г. Новосибирск село Ленинское, 50 лет Октября, 27 4
B12: Eltex NV-711 | C12: sb 29131617
A13: 2
A15: 3
B22: Исполнитель | E22: Абонент
B24: _______________ | E24: _______________
B25: (подпись) | E25: (подпись)
B26: Буйновский Игорь Борисович | E26: =ФИО -> Сычева Елена Дмитриевна
B30: м.п.

Sheet Приход.ТВ-приставка
A1: Утверждена постановлением Госкомстата России от 18.08.98 г. № 88 | AI1: ООО "Восток-Телеком"
Y3: Код
AJ4: организация
A5: ООО "Восток-Телеком"
S6: Форма по ОКУД | Y6: 0310001
AJ8: КВИТАНЦИЯ
T9: по ОКПО
AJ11: =CONCATENATE("к приходному кассовому ордеру №"," ",номер_договора) -> к приходному кассовому ордеру № 3210
A12: организация
AJ13: =CONCATENATE("от"," ",дата_договора) -> от 43649
AJ14: от | AK14: =дата_договора -> 43649
AJ17: Принято от:
A19: структурное подразделение
A20: 3.1. Оплата за услуги Исполнителя может осуществляеться наличным или безналичным способом
A21: 3.2. На момент заключения Договора стоимость услуг по подключению Абонента к услугам Исполнителя п.1.1. составляет 6000 (Шесть тысяч) рублей без учета НДС. | AJ21: =ФИО -> Сычева Елена Дмитриевна
U22: Номер документа | Z22: Дата составления
A24: 3.5. Исполнитель по факту оказания услуги по подключению к сети передачи данных предоставляет Абоненту Акт сдачи-приемки услуг. Абонент в течение 2 (двух) рабочих дней с момента получения от Исполнителя Акта сдачи-приемки услуг, обязан принять оказанные услуги и подписать Акт. В случае если по истечению 5 (пяти) рабочих дней с момента получения Акта Абонентом, от Абонента не поступил подписанный Акт, или мотивированный отказ в подписании Акта, услуги Исполнителя считаются принятыми и подлежащими оплате в полной мере.
U25: =номер_договора -> 3210 | Z25: =дата_договора -> 43649
AJ27: Основание:
A31: Дебет | D31: Кредит | U31: Сумма, руб, коп | Z31: Код целевого назна- чения | AJ31: =Договор!A2 -> ДОГОВОР НА ОКАЗАНИЕ УСЛУГ № | AU31: =номер_договора -> 3210
F33: код струк- турного под- разделения | L33: корреспонди- рующий счет, субсчет | O33: код анали- тического учета
AE34: линия отреза
AJ36: Сумма:
AK37: 150 | AR37: руб. | AT37: 00 | AU37: коп.
U38: 150
AJ39: сто пятьдесят
A43: Принято от: | F43: =CONCATENATE('2'!B7) -> Сычева Елена Дмитриевна
AR48: руб. | AT48: 00 | AU48: коп.
AJ49: В том числе:
A51: Основание: | E51: =Договор!A2 -> ДОГОВОР НА ОКАЗАНИЕ УСЛУГ № | T51: ='2'!B2 -> 3210 | V51: от | W51: =дата_договора -> 43649
A58: Сумма: | C58: 150 (сто пятьдесят) рублей | AJ58: " " ___________ г.
AJ61: М.П.(штампа)
A62: В том числе:
AJ65: Главный бухгалтер
A66: Приложение:
AQ67: подпись
AJ69: Буйновский И.Б.
AJ70: расшифровка подписи
A72: Главный бухгалтер | Q72: Буйновский И.Б.
AJ73: Кассир
...

Sheet Приход.Чистый
A1: Утверждена постановлением Госкомстата России от 18.08.98 г. № 88 | AI1: ООО "Восток-Телеком"
Y3: Код
AJ4: организация
A5: ООО "Восток-Телеком"
S6: Форма по ОКУД | Y6: 0310001
AJ8: КВИТАНЦИЯ
T9: по ОКПО
AJ11: к приходному кассовому ордеру №
A12: организация
AJ13: от " " ______________ 201 г.
AJ17: Принято от:
A19: структурное подразделение
A20: 3.1. Оплата за услуги Исполнителя может осуществляеться наличным или безналичным способом
A21: 3.2. На момент заключения Договора стоимость услуг по подключению Абонента к услугам Исполнителя п.1.1. составляет 6000 (Шесть тысяч) рублей без учета НДС.
U22: Номер документа | Z22: Дата составления
A24: 3.5. Исполнитель по факту оказания услуги по подключению к сети передачи данных предоставляет Абоненту Акт сдачи-приемки услуг. Абонент в течение 2 (двух) рабочих дней с момента получения от Исполнителя Акта сдачи-приемки услуг, обязан принять оказанные услуги и подписать Акт. В случае если по истечению 5 (пяти) рабочих дней с момента получения Акта Абонентом, от Абонента не поступил подписанный Акт, или мотивированный отказ в подписании Акта, услуги Исполнителя считаются принятыми и подлежащими оплате в полной мере.
AJ27: Основание:
A31: Дебет | D31: Кредит | U31: Сумма, руб, коп | Z31: Код целевого назна- чения | AJ31: =Договор!A2 -> ДОГОВОР НА ОКАЗАНИЕ УСЛУГ №
F33: код струк- турного под- разделения | L33: корреспонди- рующий счет, субсчет | O33: код анали- тического учета
AE34: линия отреза
AJ36: Сумма:
AR37: руб. | AT37: 00 | AU37: коп.
A43: Принято от:
AR48: руб. | AU48: коп.
AJ49: В том числе:
A51: Основание: | E51: =Договор!A2 -> ДОГОВОР НА ОКАЗАНИЕ УСЛУГ №
A58: Сумма: | C58: руб. коп. | AJ58: " " ___________ г.
AJ61: М.П.(штампа)
A62: В том числе:
AJ65: Главный бухгалтер
A66: Приложение:
AQ67: подпись
AJ69: Буйновский И.Б.
AJ70: расшифровка подписи
A72: Главный бухгалтер | Q72: Буйновский И.Б.
AJ73: Кассир
K74: подпись | Q74: расшифровка подписи
AL75: подпись
A79: Получил кассир
J81: подпись
...

Sheet Регистр.Карта
A2: Регистрационная карта № | G2: =CONCATENATE(номер_договора) -> 3210
B4: ПАСПОРТНЫЕ ДАННЫЕ АБОНЕНТА
B6: Серия: | C6: =п_серия -> 508888 | D6: Номер: | E6: =п_номер -> 2222 | F6: Дата выдачи: | G6: =п_дата -> 41477
B8: Кем выдан: | D8: =п_выдан -> Министерство Внутренних Дел Казахстан
B10: Адрес оказания услуг: | E10: Город: | F10: =а_город -> г. Новосибирск село Ленинское
E11: Улица: | F11: =а_улица -> 50 лет Октября
E12: Дом: | F12: =а_дом -> 27
E13: Квартира: | F13: =а_квартира -> 4
B15: Контактный телефон: | E15: =телефон -> 8-953-780-60-
B17: ИНФОРМАЦИЯ ДЛЯ АБОНЕНТА
B19: Тарифный план: | D19: =тариф -> 50мб/с
B21: Личный кабинет: | D21: лк.восток-телеком.рф | G21: Пароль к личному кабинету: | J21: =пароль -> mobg
B23: АБОНЕНТ ПОДТВЕРЖДАЕТ
B25: 1. Достоверность и полноту сведений, указанных в Регистрационной карте.
B26: 2. Наличие согласия Собственника жилого помещения или ответственного квартиросьемщика на проведение работ по подключению по адрессу оказания услуг.
H36: Подписи сторон
B38: Абонент | E38: =ФИО -> Сычева Елена Дмитриевна | H38: ______________
B42: Представитель компании | E42: Горбунов Дмитрий Сергеевич | H42: ______________
B43: ООО "Восток-Телеком"
